BEGIN:VCALENDAR
VERSION:2.0
PRODID:-//Golfclub Raffelberg in Mülheim an der Ruhr - ECPv6.15.20//NONSGML v1.0//EN
CALSCALE:GREGORIAN
METHOD:PUBLISH
X-ORIGINAL-URL:https://www.golfclub-raffelberg.de
X-WR-CALDESC:Veranstaltungen für Golfclub Raffelberg in Mülheim an der Ruhr
REFRESH-INTERVAL;VALUE=DURATION:PT1H
X-Robots-Tag:noindex
X-PUBLISHED-TTL:PT1H
BEGIN:VTIMEZONE
TZID:Europe/Berlin
BEGIN:DAYLIGHT
TZOFFSETFROM:+0100
TZOFFSETTO:+0200
TZNAME:CEST
DTSTART:20250330T010000
END:DAYLIGHT
BEGIN:STANDARD
TZOFFSETFROM:+0200
TZOFFSETTO:+0100
TZNAME:CET
DTSTART:20251026T010000
END:STANDARD
BEGIN:DAYLIGHT
TZOFFSETFROM:+0100
TZOFFSETTO:+0200
TZNAME:CEST
DTSTART:20260329T010000
END:DAYLIGHT
BEGIN:STANDARD
TZOFFSETFROM:+0200
TZOFFSETTO:+0100
TZNAME:CET
DTSTART:20261025T010000
END:STANDARD
BEGIN:DAYLIGHT
TZOFFSETFROM:+0100
TZOFFSETTO:+0200
TZNAME:CEST
DTSTART:20270328T010000
END:DAYLIGHT
BEGIN:STANDARD
TZOFFSETFROM:+0200
TZOFFSETTO:+0100
TZNAME:CET
DTSTART:20271031T010000
END:STANDARD
END:VTIMEZONE
BEGIN:VEVENT
DTSTART;TZID=Europe/Berlin:20260228T100000
DTEND;TZID=Europe/Berlin:20260301T150000
DTSTAMP:20260419T230920
CREATED:20251229T123038Z
LAST-MODIFIED:20260224T191614Z
UID:10000689-1772272800-1772377200@www.golfclub-raffelberg.de
SUMMARY:Crash Kurs (CK26-02)
DESCRIPTION: Crash Kurs (CK26-02)\n\nPreis: ab 149 Euro/Person\n\nDauer:\n\n 2 Tage\n\nTermine:\n\n28.02.26 – 10:00 – 15:00 Uhr\n01.03.26 – 10:00 – 15:00 Uhr\n\n\nInhalt:\nKursdauer: 10 Stunden (Unterricht\, Regelkunde\, Prüfung)\n\n\nTheoretische Prüfung Regeln und Etikette (Regeltest)\nPraktische Prüfung auf dem Golfplatz\nHochwertige Leihschläger von Wilson während der Kurszeiten\nUnbegrenzt Übungsbälle während der Kurszeiten\nTopTracer Training\nTraining bei Dunkelheit mit Flutlicht\nÜbergabe Platzreifezertifikat bei bestandener Prüfung*\nBonus: zusätzlich Golfexpertengespräch und Abschlusstreffen mit gemeinsamen Currywurst-Essen im Clubhaus\n\n  \nZur Vorbereitung können Sie im Katalog der Regelfragen stöbern. Hier finden Sie Regelfragen und Antworten zum Üben. \nhttps://www.golf.de/regeln/regelquiz.html \n  \nTeilnehmerzahl:\n\nmin. vier Personen\nmax. acht Personen\n\nBitte beachten Sie\, dass eine Stornierung nur bis drei Tage vor Kursbeginn kostenfrei möglich ist. \n*Während des Kurses müssen sowohl eine spielerische Prüfung auf dem Platz als auch eine Theorieprüfung (Regeltest) abgelegt werden. Auch das Verhalten und die Etikette sind wichtig damit jeder weiß\, wie man sich auf einem Golfplatz zu verhalten hat.\nDas Bestehen der Prüfungen obliegt den Regularien und dem zuständigen Golflehrer. Erst wenn beide Teilprüfungen bestanden worden sind\, erhält man das Platzreifezertifikat.
URL:https://www.golfclub-raffelberg.de/event/crash-kurs-ck26-02/
LOCATION:Golfclub Mülheim an der Ruhr Raffelberg\, Ruhrorter Straße 129\, Mülheim an der Ruhr\, 45478\, Germany
CATEGORIES:Platzreife – Crash Kurs
ATTACH;FMTTYPE=image/jpeg:https://www.golfclub-raffelberg.de/wp-content/uploads/2020/02/Golfclub-Raffelberg-Muelheim-Platzreife-Intensiv.jpg
ORGANIZER;CN="Golfclub M%C3%BClheim an der Ruhr Raffelberg":MAILTO:hello@golfclub-raffelberg.de
END:VEVENT
BEGIN:VEVENT
DTSTART;TZID=Europe/Berlin:20260222T120000
DTEND;TZID=Europe/Berlin:20260222T140000
DTSTAMP:20260419T230920
CREATED:20251229T114916Z
LAST-MODIFIED:20260222T105026Z
UID:10000686-1771761600-1771768800@www.golfclub-raffelberg.de
SUMMARY:Schnupperkurs SK26-03
DESCRIPTION:Golfschnupperkurs SK26-03\n\nTrainer: Patrick Giesen\nPreis: ab 19 Euro/Person\n\nFür die Teilnahme empfehlen wir:\n\nsportlich bequeme Kleidung\nFreizeitschuhe\n\nInhalt:\n\nzwei Stunden Unterricht\nalle Leihschläger\nalle Übungsbälle\nalle für den Kurs nötigen Eintrittsgelder (Greenfee)\n\nTeilnehmerzahl:\n\nmin. vier Personen\nmax. zehn Personen\n\nBitte beachten Sie\, dass eine Stornierung nur bis drei Tage vor Kursbeginn kostenfrei möglich ist.
URL:https://www.golfclub-raffelberg.de/event/schnupperkurs-sk26-03/
LOCATION:Golfclub Mülheim an der Ruhr Raffelberg\, Ruhrorter Straße 129\, Mülheim an der Ruhr\, 45478\, Germany
CATEGORIES:Schnupperkurs
ATTACH;FMTTYPE=image/jpeg:https://www.golfclub-raffelberg.de/wp-content/uploads/2020/02/Schnupperkurs-Golfclub-Raffelberg-Muelheim-Ruhr.jpg
ORGANIZER;CN="Golfclub M%C3%BClheim an der Ruhr Raffelberg":MAILTO:hello@golfclub-raffelberg.de
END:VEVENT
BEGIN:VEVENT
DTSTART;TZID=Europe/Berlin:20260214T100000
DTEND;TZID=Europe/Berlin:20260215T150000
DTSTAMP:20260419T230920
CREATED:20251229T121552Z
LAST-MODIFIED:20260213T183418Z
UID:10000688-1771063200-1771167600@www.golfclub-raffelberg.de
SUMMARY:Crash Kurs (CK26-01)
DESCRIPTION: Crash Kurs (CK26-01)\n\nPreis: ab 149 Euro/Person\n\nDauer:\n\n 2 Tage\n\nTermine:\n\n14.02.26 – 10:00 – 15:00 Uhr\n15.02.26 – 10:00 – 15:00 Uhr\n\n\nInhalt:\nKursdauer: 10 Stunden (Unterricht\, Regelkunde\, Prüfung)\n\n\nTheoretische Prüfung Regeln und Etikette (Regeltest)\nPraktische Prüfung auf dem Golfplatz\nHochwertige Leihschläger von Wilson während der Kurszeiten\nUnbegrenzt Übungsbälle während der Kurszeiten\nTopTracer Training\nTraining bei Dunkelheit mit Flutlicht\nÜbergabe Platzreifezertifikat bei bestandener Prüfung*\nBonus: zusätzlich Golfexpertengespräch und Abschlusstreffen mit gemeinsamen Currywurst-Essen im Clubhaus\n\n  \nZur Vorbereitung können Sie im Katalog der Regelfragen stöbern. Hier finden Sie Regelfragen und Antworten zum Üben. \nhttps://www.golf.de/regeln/regelquiz.html \n  \nTeilnehmerzahl:\n\nmin. vier Personen\nmax. acht Personen\n\nBitte beachten Sie\, dass eine Stornierung nur bis drei Tage vor Kursbeginn kostenfrei möglich ist. \n*Während des Kurses müssen sowohl eine spielerische Prüfung auf dem Platz als auch eine Theorieprüfung (Regeltest) abgelegt werden. Auch das Verhalten und die Etikette sind wichtig damit jeder weiß\, wie man sich auf einem Golfplatz zu verhalten hat.\nDas Bestehen der Prüfungen obliegt den Regularien und dem zuständigen Golflehrer. Erst wenn beide Teilprüfungen bestanden worden sind\, erhält man das Platzreifezertifikat.
URL:https://www.golfclub-raffelberg.de/event/crash-kurs-ck26-01/
LOCATION:Golfclub Mülheim an der Ruhr Raffelberg\, Ruhrorter Straße 129\, Mülheim an der Ruhr\, 45478\, Germany
CATEGORIES:Platzreife – Crash Kurs
ATTACH;FMTTYPE=image/jpeg:https://www.golfclub-raffelberg.de/wp-content/uploads/2020/02/Golfclub-Raffelberg-Muelheim-Platzreife-Intensiv.jpg
ORGANIZER;CN="Golfclub M%C3%BClheim an der Ruhr Raffelberg":MAILTO:hello@golfclub-raffelberg.de
END:VEVENT
BEGIN:VEVENT
DTSTART;TZID=Europe/Berlin:20260208T120000
DTEND;TZID=Europe/Berlin:20260208T140000
DTSTAMP:20260419T230920
CREATED:20251229T113841Z
LAST-MODIFIED:20260203T185120Z
UID:10000685-1770552000-1770559200@www.golfclub-raffelberg.de
SUMMARY:Schnupperkurs SK26-02
DESCRIPTION:Golfschnupperkurs SK26-02\n\nPreis: ab 19 Euro/Person\n\nFür die Teilnahme empfehlen wir:\n\nsportlich bequeme Kleidung\nFreizeitschuhe\n\nInhalt:\n\nzwei Stunden Unterricht\nalle Leihschläger\nalle Übungsbälle\nalle für den Kurs nötigen Eintrittsgelder (Greenfee)\n\nTeilnehmerzahl:\n\nmin. vier Personen\nmax. acht Personen\n\nBitte beachten Sie\, dass eine Stornierung nur bis drei Tage vor Kursbeginn kostenfrei möglich ist.
URL:https://www.golfclub-raffelberg.de/event/schnupperkurs-sk26-01-2/
LOCATION:Golfclub Mülheim an der Ruhr Raffelberg\, Ruhrorter Straße 129\, Mülheim an der Ruhr\, 45478\, Germany
CATEGORIES:Schnupperkurs
ATTACH;FMTTYPE=image/jpeg:https://www.golfclub-raffelberg.de/wp-content/uploads/2020/02/Schnupperkurs-Golfclub-Raffelberg-Muelheim-Ruhr.jpg
ORGANIZER;CN="Golfclub M%C3%BClheim an der Ruhr Raffelberg":MAILTO:hello@golfclub-raffelberg.de
END:VEVENT
BEGIN:VEVENT
DTSTART;TZID=Europe/Berlin:20260131T140000
DTEND;TZID=Europe/Berlin:20260201T150000
DTSTAMP:20260419T230920
CREATED:20260103T130317Z
LAST-MODIFIED:20260103T130710Z
UID:10000692-1769868000-1769958000@www.golfclub-raffelberg.de
SUMMARY:Crash Kurs (CK26-00)
DESCRIPTION: Crash Kurs (CK26-00)\n\nTrainer: Patrick\nPreis: ab 149 Euro/Person\n\nDauer:\n\n 2 Tage\n\nTermine:\n\n31.01.26 – 14:00 – 19:00 Uhr\n01.02.26 – 10:00 – 15:00 Uhr\n\n\nInhalt:\nKursdauer: 10 Stunden (Unterricht\, Regelkunde\, Prüfung)\n\n\nTheoretische Prüfung Regeln und Etikette (Regeltest)\nPraktische Prüfung auf dem Golfplatz\nHochwertige Leihschläger von Wilson während der Kurszeiten\nUnbegrenzt Übungsbälle während der Kurszeiten\nTopTracer Training\nTraining bei Dunkelheit mit Flutlicht\nÜbergabe Platzreifezertifikat bei bestandener Prüfung*\nBonus: zusätzlich Golfexpertengespräch und Abschlusstreffen mit gemeinsamen Currywurst-Essen im Clubhaus\n\n  \nZur Vorbereitung können Sie im Katalog der Regelfragen stöbern. Hier finden Sie Regelfragen und Antworten zum Üben. \nhttps://www.golf.de/regeln/regelquiz.html \n  \nTeilnehmerzahl:\n\nmin. vier Personen\nmax. acht Personen\n\nBitte beachten Sie\, dass eine Stornierung nur bis drei Tage vor Kursbeginn kostenfrei möglich ist. \n*Während des Kurses müssen sowohl eine spielerische Prüfung auf dem Platz als auch eine Theorieprüfung (Regeltest) abgelegt werden. Auch das Verhalten und die Etikette sind wichtig damit jeder weiß\, wie man sich auf einem Golfplatz zu verhalten hat.\nDas Bestehen der Prüfungen obliegt den Regularien und dem zuständigen Golflehrer. Erst wenn beide Teilprüfungen bestanden worden sind\, erhält man das Platzreifezertifikat.
URL:https://www.golfclub-raffelberg.de/event/crash-kurs-ck26-00/
LOCATION:Golfclub Mülheim an der Ruhr Raffelberg\, Ruhrorter Straße 129\, Mülheim an der Ruhr\, 45478\, Germany
CATEGORIES:Platzreife – Crash Kurs
ATTACH;FMTTYPE=image/jpeg:https://www.golfclub-raffelberg.de/wp-content/uploads/2020/02/Golfclub-Raffelberg-Muelheim-Platzreife-Intensiv.jpg
ORGANIZER;CN="Golfclub M%C3%BClheim an der Ruhr Raffelberg":MAILTO:hello@golfclub-raffelberg.de
END:VEVENT
END:VCALENDAR